BEGIN:VCALENDAR
VERSION:2.0
PRODID:-//PSV-KMA - ECPv6.15.17.1//NONSGML v1.0//EN
CALSCALE:GREGORIAN
METHOD:PUBLISH
X-WR-CALNAME:PSV-KMA
X-ORIGINAL-URL:https://www.psv-kma.at
X-WR-CALDESC:Veranstaltungen für PSV-KMA
REFRESH-INTERVAL;VALUE=DURATION:PT1H
X-Robots-Tag:noindex
X-PUBLISHED-TTL:PT1H
BEGIN:VTIMEZONE
TZID:Europe/Vienna
BEGIN:DAYLIGHT
TZOFFSETFROM:+0100
TZOFFSETTO:+0200
TZNAME:CEST
DTSTART:20250330T010000
END:DAYLIGHT
BEGIN:STANDARD
TZOFFSETFROM:+0200
TZOFFSETTO:+0100
TZNAME:CET
DTSTART:20251026T010000
END:STANDARD
BEGIN:DAYLIGHT
TZOFFSETFROM:+0100
TZOFFSETTO:+0200
TZNAME:CEST
DTSTART:20260329T010000
END:DAYLIGHT
BEGIN:STANDARD
TZOFFSETFROM:+0200
TZOFFSETTO:+0100
TZNAME:CET
DTSTART:20261025T010000
END:STANDARD
BEGIN:DAYLIGHT
TZOFFSETFROM:+0100
TZOFFSETTO:+0200
TZNAME:CEST
DTSTART:20270328T010000
END:DAYLIGHT
BEGIN:STANDARD
TZOFFSETFROM:+0200
TZOFFSETTO:+0100
TZNAME:CET
DTSTART:20271031T010000
END:STANDARD
END:VTIMEZONE
BEGIN:VEVENT
DTSTART;TZID=Europe/Vienna:20260426T100000
DTEND;TZID=Europe/Vienna:20260426T140000
DTSTAMP:20260420T113535
CREATED:20241120T111551Z
LAST-MODIFIED:20260410T164746Z
UID:19518-1777197600-1777212000@www.psv-kma.at
SUMMARY:KRAV MAGA Workshop für Frauen und Männer ab 14 Jahren
DESCRIPTION:Selbstverteidigung für Frauen und Männer ab 14 Jahren\n \n\nWo\nSportsaal – Volksschule\nDurchlaufstraße 23\, 1200 Wien\nEingang: Gebäudemitte beim Eisengatter \nÖffentliche Verkehrsmittel\nStation Handelskai\nU-Bahn: U6; Bus: 5A\, 11A\, 11B\nS-Bahn: S1\, S2\, S3\, S7\, S45 \nKursbeitrag\n€ 50\,– \nAusrüstung\nBequeme Kleidung\, Hallenschuhe mit heller\, abriebfester Sohle. Bitte eigene Verpflegung mitnehmen. \nInhalte\nZiel dieses Workshops ist es\, die teilnehmenden Personen schnell in die Lage zu versetzen selbstverteidigungsfähig zu werden\, sowie auf angemessene Art und Weise auf Übergriffe und Gewalt zu reagieren\, wenn die Prävention versagt hat. Eigene Stärken\, Schwächen und Grenzen\, sowie die anderer\, zu erkennen und mit ihnen umzugehen. Abwehr- und Befreiungstechniken auf gewalttätige Angriffe\, Förderung des Durchhaltevermögens und des Kampfgeistes sind Inhalte dieses Workshops.\nAuch für Jugendliche (ab 14 Jahren)\, in Begleitung teilnehmender Erwachsener\, möglich! \nAnmeldung\nAnmeldung per Mail: info@psv-kma.at \nDer Veranstalter übernimmt keine Haftung für gesundheitliche Risiken\, die im Zusammenhang mit der Teilnahme an diesem Workshop entstehen können. Eine verbindliche Anmeldung ist bis spätestens Donnerstag\, den 23. April 2026\, erforderlich. Der Workshop findet statt\, sofern sich mindestens 10 Teilnehmende angemeldet haben. \nInfo PDF:  Krav Maga Mix
URL:https://www.psv-kma.at/workshop/krav-maga-workshop-fuer-frauen-und-maenner-ab-14-jahren/
LOCATION:VS – Durchlaufstraße 23\, Durchlaufstraße 23\, Wien\, Wien\, 1200\, Austria
CATEGORIES:Workshops Wien
ATTACH;FMTTYPE=image/webp:https://www.psv-kma.at/wp-content/uploads/2024/11/Selbstverteidigung-Maenner-scaled.webp
END:VEVENT
BEGIN:VEVENT
DTSTART;TZID=Europe/Vienna:20260507T183000
DTEND;TZID=Europe/Vienna:20260507T200000
DTSTAMP:20260420T113535
CREATED:20250914T094313Z
LAST-MODIFIED:20260331T153631Z
UID:236837-1778178600-1778184000@www.psv-kma.at
SUMMARY:Probetraining
DESCRIPTION:Das Probetraining ist kostenlos – keine Polizeizugehörigkeit erforderlich!\nFür die Teilnahme ist eine verpflichtende Voranmeldung nötig. Anmeldung und weitere Informationen per Mail unter: probetraining@psv-kma.at Wir beantworten jedes Mail – bitte auch den SPAM Ordner kontrollieren. \nAusrüstung fürs Training:\nLange Trainingshose\, T-Shirt\, Hallenschuhe mit heller\, abriebfester Sohle. Filmen und Fotografieren ist während des Trainings nicht gestattet. Krav Maga Allround kann in der PSV ab dem vollendeten 18. Lebensjahr ausgeübt werden. Der Einstieg in das regelmäßige Training erfolgt über ein Probetraining. \nAnkunftszeit:\nMindestens 15 bis maximal 30 Minuten vor Trainingsbeginn – damit alle organisatorischen Belange geklärt werden können.\nNach dem Trainingsstart ist keine Teilnahme an der Einheit mehr möglich. \nParkplatz:\nDer HAKOAH-Parkplatz kann fürs Probetraining NICHT benutzt werden.\nDas Parkhaus Donaumarina – Wien | APCOA ist aber nur 5 Minuten entfernt. \nAnmeldung und weitere Informationen per Mail unter:\nprobetraining@psv-kma.at
URL:https://www.psv-kma.at/workshop/probetraining-5/
LOCATION:S.C. Hakoah – Wehlistraße 326\, Wehlistraße 326\, 1020 Wien\, Wien\, 1020\, Austria
CATEGORIES:Probetraining
ATTACH;FMTTYPE=image/webp:https://www.psv-kma.at/wp-content/uploads/2024/11/Training-KRAV-MAGA-Wien-1-scaled-1.webp
END:VEVENT
BEGIN:VEVENT
DTSTART;TZID=Europe/Vienna:20260528T183000
DTEND;TZID=Europe/Vienna:20260528T200000
DTSTAMP:20260420T113535
CREATED:20241120T104828Z
LAST-MODIFIED:20260331T153659Z
UID:19504-1779993000-1779998400@www.psv-kma.at
SUMMARY:Probetraining
DESCRIPTION:Das Probetraining ist kostenlos – keine Polizeizugehörigkeit erforderlich!\nFür die Teilnahme ist eine verpflichtende Voranmeldung nötig. Anmeldung und weitere Informationen per Mail unter: probetraining@psv-kma.at Wir beantworten jedes Mail – bitte auch den SPAM Ordner kontrollieren. \nAusrüstung fürs Training:\nLange Trainingshose\, T-Shirt\, Hallenschuhe mit heller\, abriebfester Sohle. Filmen und Fotografieren ist während des Trainings nicht gestattet. Krav Maga Allround kann in der PSV ab dem vollendeten 18. Lebensjahr ausgeübt werden. Der Einstieg in das regelmäßige Training erfolgt über ein Probetraining. \nAnkunftszeit:\nMindestens 15 bis maximal 30 Minuten vor Trainingsbeginn – damit alle organisatorischen Belange geklärt werden können.\nNach dem Trainingsstart ist keine Teilnahme an der Einheit mehr möglich. \nParkplatz:\nDer HAKOAH-Parkplatz kann fürs Probetraining NICHT benutzt werden.\nDas Parkhaus Donaumarina – Wien | APCOA ist aber nur 5 Minuten entfernt. \nAnmeldung und weitere Informationen per Mail unter:\nprobetraining@psv-kma.at
URL:https://www.psv-kma.at/workshop/probetraining-4/
LOCATION:S.C. Hakoah – Wehlistraße 326\, Wehlistraße 326\, 1020 Wien\, Wien\, 1020\, Austria
CATEGORIES:Probetraining
ATTACH;FMTTYPE=image/webp:https://www.psv-kma.at/wp-content/uploads/2024/11/Training-KRAV-MAGA-Wien_-scaled.webp
END:VEVENT
BEGIN:VEVENT
DTSTART;TZID=Europe/Vienna:20260603T170000
DTEND;TZID=Europe/Vienna:20260607T090000
DTSTAMP:20260420T113535
CREATED:20241120T120020Z
LAST-MODIFIED:20260130T194104Z
UID:19524-1780506000-1780822800@www.psv-kma.at
SUMMARY:19. KMA - Sommer Camp - Ausgebucht
DESCRIPTION:Wann\nAnkunft: Mittwoch\, 03. Juni 2026\, ab 17:00 Uhr\n(Schlüsselausgabe ab 17:00 / Abendessen 18:00)\nAbreise: Sonntag\, 07. Juni 2026\, ab 09:00 Uhr \nWo\nSportsarea Grimming\n8960 Niederöblarn Nr. 83\nTelefon: 03684/6066-17\nwww.sportsarea.at \nInhalte\nKrav Maga\nBad Man (Szenarientraining)\nBodenkampf & Sparring\nDrill & Zirkeltraining\nPandeka Mihar G=Sentak (indonesische Kampfkunst) mit Groß-meister Pandeka Mihar \nLeistungen\nInkludiert sind: \n\nNächtigung und Essen von Mittwoch (Abendessen) bis Sonntag (Frühstück)\nAlle Trainings\, Spezialseminare\nDie Benützung der BSFZ Sportanlage mit: Wellness – 2 Saunen\, Dampfbad\, Kraftkammer.\nWeiters sind ein Fußball- sowie ein Beachvolleyballplatz vorhanden.\n\nNicht inkludiert sind: \n\nTennishalle\, Solarium\, Massage\, Infrarotkabine\, Billard\,Tischtennis\nRundflüge\nGetränke\nAn- bzw. Abreise (selbständig)\n\nAusrüstung\nTrainingskleidung\, Hallenschuhe\, Schutzausrüstung und Boxhandschuhe sind selbst mitzubringen.\nSchlagpolster\, Handpratzen\, Übungswaffen werden zur Verfügung gestellt. \nPreise\nTrainierende: 370\,00 €\nGäste ohne Training: 300\,00 €\nTagesgäste/Training & Essen: 120\,00 €\nAnzahlung: 200\,00 € \nAnmeldung und Buchung ab sofort möglich. Die Buchung gilt ab Einzahlungseingang.\nDas Camp findet ab 25 Teilnehmenden statt.\n \nBei Stornierung durch den/die TeilnehmerIn nach dem 01.04.2026 werden € 200\,00 Stornogebühr einbehalten. \nUnterbringung in Doppel oder Drei Bett Zimmern. \nAnmeldung\nBernhard Böhm\n0699/116 94 760\nbernhard.boehm@psv-kma.at \nAnmeldung per Mail: bernhard.boehm@psv-kma.at \nwww.psv-kma.at\nWeitere Infos beim KMA-Team \nInfo PDF: SommerCamp
URL:https://www.psv-kma.at/workshop/18-kma-sommer-camp-20-jahresfeier-kma/
LOCATION:Sportsarea Grimming\, Niederöblarn 83\, Niederöblarn\, Steiermark\, 8960\, Austria
ATTACH;FMTTYPE=image/webp:https://www.psv-kma.at/wp-content/uploads/2025/01/Ausgebucht-Training-KRAV-MAGA-Wien_-Kopie-scaled.webp
END:VEVENT
BEGIN:VEVENT
DTSTART;TZID=Europe/Vienna:20260618T183000
DTEND;TZID=Europe/Vienna:20260618T200000
DTSTAMP:20260420T113535
CREATED:20260105T095000Z
LAST-MODIFIED:20260331T153723Z
UID:237202-1781807400-1781812800@www.psv-kma.at
SUMMARY:Probetraining
DESCRIPTION:Das Probetraining ist kostenlos – keine Polizeizugehörigkeit erforderlich!\nFür die Teilnahme ist eine verpflichtende Voranmeldung nötig. Anmeldung und weitere Informationen per Mail unter: probetraining@psv-kma.at Wir beantworten jedes Mail – bitte auch den SPAM Ordner kontrollieren. \nAusrüstung fürs Training:\nLange Trainingshose\, T-Shirt\, Hallenschuhe mit heller\, abriebfester Sohle. Filmen und Fotografieren ist während des Trainings nicht gestattet. Krav Maga Allround kann in der PSV ab dem vollendeten 18. Lebensjahr ausgeübt werden. Der Einstieg in das regelmäßige Training erfolgt über ein Probetraining. \nAnkunftszeit:\nMindestens 15 bis maximal 30 Minuten vor Trainingsbeginn – damit alle organisatorischen Belange geklärt werden können.\nNach dem Trainingsstart ist keine Teilnahme an der Einheit mehr möglich. \nParkplatz:\nDer HAKOAH-Parkplatz kann fürs Probetraining NICHT benutzt werden.\nDas Parkhaus Donaumarina – Wien | APCOA ist aber nur 5 Minuten entfernt. \nAnmeldung und weitere Informationen per Mail unter:\nprobetraining@psv-kma.at
URL:https://www.psv-kma.at/workshop/probetraining-3/
LOCATION:S.C. Hakoah – Wehlistraße 326\, Wehlistraße 326\, 1020 Wien\, Wien\, 1020\, Austria
CATEGORIES:Probetraining
ATTACH;FMTTYPE=image/webp:https://www.psv-kma.at/wp-content/uploads/2024/11/Training-KRAV-MAGA-Wien_-scaled.webp
END:VEVENT
BEGIN:VEVENT
DTSTART;TZID=Europe/Vienna:20260621T100000
DTEND;TZID=Europe/Vienna:20260621T140000
DTSTAMP:20260420T113535
CREATED:20251214T102757Z
LAST-MODIFIED:20251214T103616Z
UID:237174-1782036000-1782050400@www.psv-kma.at
SUMMARY:Messer&Stockabwehr - Selbstverteidigung mit Kubotan und Alltagsgegenständen
DESCRIPTION:Messer&Stockabwehr – Selbstverteidigung mit Kubotan und Alltagsgegenständen\n(Handy\, Schlüssel\, Buch\, Trinkflaschen\, Kaffeelöffel und co.)\n \n\nWo\nSportsaal – Volksschule\nDurchlaufstraße 23\, 1200 Wien\nEingang: Gebäudemitte beim Eisengatter \nÖffentliche Verkehrsmittel\nStation Handelskai\nU-Bahn: U6; Bus: 5A\, 11A\, 11B\nS-Bahn: S1\, S2\, S3\, S7\, S45 \nKursbeitrag\n€ 50\,– \nAusrüstung\nBequeme Kleidung\, Hallenschuhe mit heller\, abriebfester Sohle. Bitte eigene Verpflegung mitnehmen. \nInhalte\nGefährlichkeit von Waffen und deren Wirkung\, Einschätzen von Konfliktsituationen\, Erlernen taktischer Verhaltensmuster bei Bedrohung mit Waffen\, Effektive Entwaffnungstechniken\, Abwehr- und Fixiertechniken\, Bedrohungen durch Hieb (Stock) und Stichwaffen (Messer) spielen eine immer wichtigere Rolle in der Selbstverteidigung. Lang zu übende\, komplizierte Bewegungen sind dabei nicht zu gebrauchen. Es werden einfache\, leicht erlernbare Abwehr- und Entwaffnungstechniken vermittelt. Der Bewegungseinschränkung bzw. motorischen Blockade in der lebensbedrohlichen Situation\, ist dabei Rechnung zu tragen. \nAnmeldung\nAnmeldung per Mail: info@psv-kma.at \nDer Veranstalter übernimmt keine Haftung für gesundheitliche Risiken\, die im Zusammenhang mit der Teilnahme an diesem Workshop entstehen können. Eine verbindliche Anmeldung ist bis spätestens Donnerstag\, den 18. Juni 2026\, erforderlich. Der Workshop findet statt\, sofern sich mindestens 10 Teilnehmende angemeldet haben. \nInfo PDF: Waffenabwehr Messer+Stock – Alltagsgegenstände
URL:https://www.psv-kma.at/workshop/messerstockabwehr-selbstverteidigung-mit-kubotan-und-alltagsgegenstaenden/
LOCATION:VS – Durchlaufstraße 23\, Durchlaufstraße 23\, Wien\, Wien\, 1200\, Austria
CATEGORIES:Workshops Wien
ATTACH;FMTTYPE=image/jpeg:https://www.psv-kma.at/wp-content/uploads/2024/11/Selbstverteidigung-Waffen-300x200-1.jpg
END:VEVENT
END:VCALENDAR